BEGIN:VCALENDAR
VERSION:2.0
PRODID:-//CERN//INDICO//EN
BEGIN:VEVENT
SUMMARY:ExPhyII Tutorenmeeting
DTSTART:20260427T093000Z
DTEND:20260427T100000Z
DTSTAMP:20260421T075400Z
UID:indico-event-4571@indico.e5.physik.tu-dortmund.de
DESCRIPTION:https://indico.e5.physik.tu-dortmund.de/event/4571/
LOCATION:CP-03-129 - Kleiner Meetingraum (TUDortmund)
URL:https://indico.e5.physik.tu-dortmund.de/event/4571/
END:VEVENT
END:VCALENDAR
