BEGIN:VCALENDAR
VERSION:2.0
PRODID:-//CERN//INDICO//EN
BEGIN:VEVENT
SUMMARY:ExPhyII Tutormeeting
DTSTART:20260420T093000Z
DTEND:20260420T100000Z
DTSTAMP:20260421T075400Z
UID:indico-event-4570@indico.e5.physik.tu-dortmund.de
DESCRIPTION:https://indico.e5.physik.tu-dortmund.de/event/4570/
LOCATION:CP-03-129 - Kleiner Meetingraum (TUDortmund)
URL:https://indico.e5.physik.tu-dortmund.de/event/4570/
END:VEVENT
END:VCALENDAR
